BEGIN:VCALENDAR
TZID:
BEGIN:VEVENT
CLASS:PUBLIC
CREATED:20260424T145237
DESCRIPTION:Get ready to tee off for a great cause at the Tyler Stephen Arasimowicz Scholarship Golf Tournament! Join us on September 29, 2023, at the picturesque Stanley Golf Course in New Britain, CT, for a day of golf, camaraderie, and philanthropy. This tournament helps bring awareness to those with Autism while raising funds for scholarships that support deserving students.\n\nGather your friends, colleagues, and fellow golf enthusiasts as we embark on an exciting journey across the beautifully manicured fairways and challenging greens of Stanley Golf Course. From seasoned pros to beginners, this tournament welcomes golfers of all skill levels to showcase their swings while making a meaningful impact.\n\nNot only will you enjoy a day filled with friendly competition, but you'll also be contributing to the educational dreams of promising students. The Tyler Stephen Arasimowicz Scholarship Golf Tournament provides an opportunity to invest in the future by providing financial assistance to deserving individuals who strive to achieve academic excellence.\n\nJoin us from 10 AM to 5 PM and experience the joy of giving back while immersing yourself in the breathtaking scenery and camaraderie that define the sport of golf. Your participation in this tournament paves the way for aspiring students to pursue their educational aspirations.\n\nDon't miss your chance to be part of this impactful event! Grab your clubs, register today, and join us at the Tyler Stephen Arasimowicz Scholarship Golf Tournament. Together, let's swing for success and empower deserving students to reach new heights.
DTEND:20230929T170000Z
DTSTAMP:20260424T145237
DTSTART:20230929T100000
LAST-MODIFIED:20091109T101015
LOCATION:Stanley Golf Course, 245 Hartford Road, , CT, 06053
SUMMARY;LANGUAGE=en-us:Tyler Stephen Arasimowicz Scholarship Golf Tournament
BEGIN:VALARM
TRIGGER:-PT1440M
ACTION:DISPLAY
DESCRIPTION:Reminder
END:VALARM
END:VEVENT
END:VCALENDAR
